BEGIN:VCALENDAR
VERSION:2.0
PRODID:icalendar-ruby
CALSCALE:GREGORIAN
METHOD:PUBLISH
BEGIN:VEVENT
DTSTAMP:20260422T002823Z
UID:975-123149@mphmschool.com
DTSTART:20270107T211500Z
DTEND:20270107T230000Z
CLASS:PUBLIC
CREATED:20260421T191154
DESCRIPTION:
LAST-MODIFIED:20260421T191154
LOCATION:MPHM School
SUMMARY:STEM Club
URL;VALUE=URI:https://www.mphmschool.com/events/stem-club--975/2027-01-07
END:VEVENT
END:VCALENDAR
