BEGIN:VCALENDAR
VERSION:2.0
PRODID:icalendar-ruby
CALSCALE:GREGORIAN
METHOD:PUBLISH
BEGIN:VEVENT
DTSTAMP:20260421T225313Z
UID:975-123111@mphmschool.com
DTSTART:20261231T211500Z
DTEND:20261231T230000Z
CLASS:PUBLIC
CREATED:20260421T163312
DESCRIPTION:
LAST-MODIFIED:20260421T163312
LOCATION:MPHM School
SUMMARY:STEM Club
URL;VALUE=URI:https://www.mphmschool.com/events/stem-club--975/2026-12-31
END:VEVENT
END:VCALENDAR
