BEGIN:VCALENDAR
VERSION:2.0
PRODID:icalendar-ruby
CALSCALE:GREGORIAN
METHOD:PUBLISH
BEGIN:VEVENT
DTSTAMP:20260421T212206Z
UID:975-123062@mphmschool.com
DTSTART:20261224T211500Z
DTEND:20261224T230000Z
CLASS:PUBLIC
CREATED:20260421T135611
DESCRIPTION:
LAST-MODIFIED:20260421T135611
LOCATION:MPHM School
SUMMARY:STEM Club
URL;VALUE=URI:https://www.mphmschool.com/events/stem-club--975/2026-12-24
END:VEVENT
END:VCALENDAR
