BEGIN:VCALENDAR
VERSION:2.0
PRODID:icalendar-ruby
CALSCALE:GREGORIAN
METHOD:PUBLISH
BEGIN:VEVENT
DTSTAMP:20260421T194629Z
UID:975-123061@mphmschool.com
DTSTART:20261217T211500Z
DTEND:20261217T230000Z
CLASS:PUBLIC
CREATED:20260421T135611
DESCRIPTION:
LAST-MODIFIED:20260421T135611
LOCATION:MPHM School
SUMMARY:STEM Club
URL;VALUE=URI:https://www.mphmschool.com/events/stem-club--975/2026-12-17
END:VEVENT
END:VCALENDAR
