BEGIN:VCALENDAR
VERSION:2.0
PRODID:icalendar-ruby
CALSCALE:GREGORIAN
METHOD:PUBLISH
BEGIN:VEVENT
DTSTAMP:20260421T165310Z
UID:975-123022@mphmschool.com
DTSTART:20261203T211500Z
DTEND:20261203T230000Z
CLASS:PUBLIC
CREATED:20260421T111816
DESCRIPTION:
LAST-MODIFIED:20260421T111816
LOCATION:MPHM School
SUMMARY:STEM Club
URL;VALUE=URI:https://www.mphmschool.com/events/stem-club--975/2026-12-03
END:VEVENT
END:VCALENDAR
