BEGIN:VCALENDAR
VERSION:2.0
PRODID:icalendar-ruby
CALSCALE:GREGORIAN
METHOD:PUBLISH
BEGIN:VEVENT
DTSTAMP:20260421T135107Z
UID:975-122983@mphmschool.com
DTSTART:20261119T211500Z
DTEND:20261119T230000Z
CLASS:PUBLIC
CREATED:20260421T084025
DESCRIPTION:
LAST-MODIFIED:20260421T084025
LOCATION:MPHM School
SUMMARY:STEM Club
URL;VALUE=URI:https://www.mphmschool.com/events/stem-club--975/2026-11-19
END:VEVENT
END:VCALENDAR
