BEGIN:VCALENDAR
VERSION:2.0
PRODID:icalendar-ruby
CALSCALE:GREGORIAN
METHOD:PUBLISH
BEGIN:VEVENT
DTSTAMP:20260421T110702Z
UID:975-122944@mphmschool.com
DTSTART:20261105T211500Z
DTEND:20261105T230000Z
CLASS:PUBLIC
CREATED:20260421T060443
DESCRIPTION:
LAST-MODIFIED:20260421T060443
LOCATION:MPHM School
SUMMARY:STEM Club
URL;VALUE=URI:https://www.mphmschool.com/events/stem-club--975/2026-11-05
END:VEVENT
END:VCALENDAR
