BEGIN:VCALENDAR
VERSION:2.0
PRODID:icalendar-ruby
CALSCALE:GREGORIAN
METHOD:PUBLISH
BEGIN:VEVENT
DTSTAMP:20260421T083339Z
UID:975-122905@mphmschool.com
DTSTART:20261022T201500Z
DTEND:20261022T220000Z
CLASS:PUBLIC
CREATED:20260420T185831
DESCRIPTION:
LAST-MODIFIED:20260420T185831
LOCATION:MPHM School
SUMMARY:STEM Club
URL;VALUE=URI:https://www.mphmschool.com/events/stem-club--975/2026-10-22
END:VEVENT
END:VCALENDAR
